BEGIN:VCALENDAR
VERSION:2.0
PRODID:-//ddaysoftware.com//NONSGML DDay.iCal 1.0//EN
BEGIN:VTIMEZONE
TZID:W. Europe Standard Time
BEGIN:STANDARD
DTSTART:20251002T030000
RRULE:FREQ=YEARLY;BYDAY=-1SU;BYHOUR=3;BYMINUTE=0;BYMONTH=10
TZNAME:Mitteleuropäische Zeit
TZOFFSETFROM:+0200
TZOFFSETTO:+0100
END:STANDARD
BEGIN:DAYLIGHT
DTSTART:20250301T020000
RRULE:FREQ=YEARLY;BYDAY=-1SU;BYHOUR=2;BYMINUTE=0;BYMONTH=3
TZNAME:Mitteleuropäische Sommerzeit
TZOFFSETFROM:+0100
TZOFFSETTO:+0200
END:DAYLIGHT
END:VTIMEZONE
BEGIN:VEVENT
CATEGORIES:Seminar\, Workshop\, Kurs
CATEGORIES:Kleinkind
CATEGORIES:Kindergartenkind
CATEGORIES:Schulkind
CATEGORIES:Pubertät
CATEGORIES:Großeltern
DESCRIPTION:Aus der Reihe „Großeltern und Enkel – ein starkes Team“\n\nVera
 nstalter: Familienstützpunkt des Caritasverbandes für den Landkreis Milten
 berg e.V.\, Johanniter Mehrgenerationenhaus\n\nhttps://familie.landkreis-m
 iltenberg.de/veranstaltungen/themenabend-fuer-grosseltern-einblicke-in-die
 -beduerfnisorientierte-paedagogik/
DTEND:20260521T200000
DTSTAMP:20260422T092306Z
DTSTART:20260521T190000
LOCATION:Familienzentrum des Caritasverbandes: Mainstr. 19a\, 63897 Miltenb
 erg
SEQUENCE:0
SUMMARY:Themenabend für Großeltern:  „Einblicke in die bedürfnisorientierte
  Pädagogik“
UID:168246
URL:https://familie.landkreis-miltenberg.de/veranstaltungen/themenabend-fue
 r-grosseltern-einblicke-in-die-beduerfnisorientierte-paedagogik/
END:VEVENT
END:VCALENDAR
